BEGIN:VCALENDAR
VERSION:2.0
PRODID:-//rfr/addtomycal//NONSGML v1.0//EN
BEGIN:VEVENT
UID:rouen.fr
DTSTAMP:20260421T075726Z
DTSTART:20221208T131500Z
DTEND:20221208T131500Z
SUMMARY:Goûter part'âges
DESCRIPTION:atelier - Cuisine
 - senior - Participation : 2 €
 - Sur inscription au 02 32 10 52 00
 - Venez cuisiner, manger gourmand et équilibré avec l'association Repas Part'âges

LOCATION:Résidence Saint-Filleul, 8 rue du Framboisier
, Rouen
END:VEVENT
END:VCALENDAR
