BEGIN:VCALENDAR
VERSION:2.0
PRODID:-//rfr/addtomycal//NONSGML v1.0//EN
BEGIN:VEVENT
UID:rouen.fr
DTSTAMP:20260420T055217Z
DTSTART:20221210T133000Z
DTEND:20221210T150000Z
SUMMARY:Atelier en famille
DESCRIPTION:atelier - Atelier
 - enfant - Gratuit, sur inscription
 - Rens. et inscriptions : 02 35 72 27 51, par mail à a.derout@fracnormandierouen.fr
Rens. : www.rrouen.org
 - Public : 6
LOCATION:12 ans
Visite de l'exposition par le médiateur du Frac, suivie d'un atelier proposé par l'artiste Paul Caharel
Proposé par RRouen, le réseau des Arts visuels Rouen Métropole

END:VEVENT
END:VCALENDAR
