BEGIN:VCALENDAR
VERSION:2.0
PRODID:-//rfr/addtomycal//NONSGML v1.0//EN
BEGIN:VEVENT
UID:rouen.fr
DTSTAMP:20260419T225927Z
DTSTART:20221217T133000Z
DTEND:20221217T143000Z
SUMMARY:Le chemin du voyage + Workshop "La Debka"
DESCRIPTION:spectacle - Danse
 - tout public - Gratuit
 -  - À l'occasion de la Journée internationale des migrants
Spectacle par Dorado Jadiba

LOCATION:Esplanade Marcel Duchamp, Rouen
END:VEVENT
END:VCALENDAR
