BEGIN:VCALENDAR
VERSION:2.0
PRODID:-//rfr/addtomycal//NONSGML v1.0//EN
BEGIN:VEVENT
UID:rouen.fr
DTSTAMP:20260422T001031Z
DTSTART:20221217T170000Z
DTEND:20221217T170000Z
SUMMARY:FC Rouen - Évreux
DESCRIPTION:sport - Football
 - tout public - 6 €
 - Rens. : http:
LOCATION:
END:VEVENT
END:VCALENDAR
