BEGIN:VCALENDAR
VERSION:2.0
PRODID:-//rfr/addtomycal//NONSGML v1.0//EN
BEGIN:VEVENT
UID:rouen.fr
DTSTAMP:20260423T235617Z
DTSTART:20221220T083000Z
DTEND:20221220T113000Z
SUMMARY:Atelier - Des jouets nature pour Noël
DESCRIPTION:atelier - Rouen givrée
 - enfant - Gratuit
 - Rens. : https:
LOCATION:
END:VEVENT
END:VCALENDAR
