BEGIN:VCALENDAR
VERSION:2.0
PRODID:-//rfr/addtomycal//NONSGML v1.0//EN
BEGIN:VEVENT
UID:rouen.fr
DTSTAMP:20260422T233753Z
DTSTART:20221223T153000Z
DTEND:20221223T173000Z
SUMMARY:Dédicace - Thomas Pesquet
DESCRIPTION:rencontre - Dédicace
 - tout public - Gratuit, sur inscription
 - Réservations sur https:
LOCATION:
END:VEVENT
END:VCALENDAR
