BEGIN:VCALENDAR
VERSION:2.0
PRODID:-//rfr/addtomycal//NONSGML v1.0//EN
BEGIN:VEVENT
UID:rouen.fr
DTSTAMP:20260425T233332Z
DTSTART:20230111T133000Z
DTEND:20230111T150000Z
SUMMARY:Atelier en famille
DESCRIPTION:atelier - Atelier
 - tout public - Gratuit, sur réservation
 - Rens. et inscriptions : 02 35 72 27 51, par mail à a.derout@fracnormandierouen.fr
Rens. : www.rrouen.org
 - Public : en famille, enfants de 5 à 99 ans
Proposé par RRouen, le Réseau des Arts visuels de Rouen Métropole

LOCATION:Frac Normandie-Rouen, 3 place des Martyrs de la Résistance
, Sotteville-lès-Rouen
END:VEVENT
END:VCALENDAR
