BEGIN:VCALENDAR
VERSION:2.0
PRODID:-//rfr/addtomycal//NONSGML v1.0//EN
BEGIN:VEVENT
UID:rouen.fr
DTSTAMP:20260422T070814Z
DTSTART:20230114T130000Z
DTEND:20230114T150000Z
SUMMARY:Bonjour Planète Bizarr
DESCRIPTION:atelier - Atelier ados
 - enfant - Gratuit, sur inscription
 - Rens. et inscriptions : 06 23 12 50 12, par mail à collectifdenface@gmail.com
Rens. : www.rrouen.org
 - Public : 10
LOCATION:13 ans
Proposé par RRouen, le Réseau des Arts visuels de Rouen Métropole

END:VEVENT
END:VCALENDAR
