BEGIN:VCALENDAR
VERSION:2.0
PRODID:-//rfr/addtomycal//NONSGML v1.0//EN
BEGIN:VEVENT
UID:rouen.fr
DTSTAMP:20260420T053609Z
DTSTART:20230114T193000Z
DTEND:20230114T193000Z
SUMMARY:Nabila Dali + Azwaw + Smail Kessay
DESCRIPTION:musique - Concert
 - tout public - 12 € (TR 10 €)
 - Rens. : par téléphone au 06 62 61 69 83, par mail à tafsutassociation@yahoo.fr ou sur https:
LOCATION:
END:VEVENT
END:VCALENDAR
