BEGIN:VCALENDAR
VERSION:2.0
PRODID:-//rfr/addtomycal//NONSGML v1.0//EN
BEGIN:VEVENT
UID:rouen.fr
DTSTAMP:20260420T074411Z
DTSTART:20230117T113000Z
DTEND:20230117T113000Z
SUMMARY:Visite flash - Gaillard & Claude
DESCRIPTION:visite - Visite commentée
 - tout public - Gratuit
 - Rens. : 02 35 72 27 51 et sur www.fracnormandie.fr
 - Durée : 30 minutes

LOCATION:Frac Normandie-Rouen, 3 place des Martyrs de la Résistance, Rouen
END:VEVENT
END:VCALENDAR
