BEGIN:VCALENDAR
VERSION:2.0
PRODID:-//rfr/addtomycal//NONSGML v1.0//EN
BEGIN:VEVENT
UID:rouen.fr
DTSTAMP:20260421T072116Z
DTSTART:20230125T130000Z
DTEND:20230125T160000Z
SUMMARY:Positive Planet et Incubastreet
DESCRIPTION:rencontre - Sensibilisation
 - tout public - Accès libre
 - Rens. : www.france.positivieplanet.ngo
 - Proposé par l'association Positive Planet et Incubastreet
Campagne de sensibilisation à la création d'entreprise
À destination des habitants des Hauts-de-Rouen

LOCATION:Rdv devant la bibliothèque du Châtelet, place du Châtelet
, Rouen
END:VEVENT
END:VCALENDAR
