BEGIN:VCALENDAR
VERSION:2.0
PRODID:-//rfr/addtomycal//NONSGML v1.0//EN
BEGIN:VEVENT
UID:rouen.fr
DTSTAMP:20260425T105314Z
DTSTART:20230128T200000Z
DTEND:20230128T200000Z
SUMMARY:L'aventura 
DESCRIPTION:spectacle - Spectacle
 - tout public - 20 € (TR 16 €)
 - Rens. : https:
LOCATION:
END:VEVENT
END:VCALENDAR
