BEGIN:VCALENDAR
VERSION:2.0
PRODID:-//rfr/addtomycal//NONSGML v1.0//EN
BEGIN:VEVENT
UID:rouen.fr
DTSTAMP:20260421T002303Z
DTSTART:20230202T130000Z
DTEND:20230202T150000Z
SUMMARY:Le numérique dans la vie quotidienne - Débutants et intermédiares
DESCRIPTION:atelier - Seniors connectés
 - senior - Sur inscription au 06 95 48 34 71
 -  - Modifier ses photos avec le logiciel gratuit Photofiltre sur ordinateur
Apporter son matériel

LOCATION:MJC Rive gauche, place de Hanovre
, Rouen
END:VEVENT
END:VCALENDAR
