BEGIN:VCALENDAR
VERSION:2.0
PRODID:-//rfr/addtomycal//NONSGML v1.0//EN
BEGIN:VEVENT
UID:rouen.fr
DTSTAMP:20260420T081233Z
DTSTART:20230203T183000Z
DTEND:20230203T183000Z
SUMMARY:SPO Rouen - La Romagne
DESCRIPTION:sport - Tennis de table
 - tout public - 8 € (TR 6 €)
 - Rens. : https:
LOCATION:
END:VEVENT
END:VCALENDAR
