BEGIN:VCALENDAR
VERSION:2.0
PRODID:-//rfr/addtomycal//NONSGML v1.0//EN
BEGIN:VEVENT
UID:rouen.fr
DTSTAMP:20260419T152302Z
DTSTART:20230209T130000Z
DTEND:20230209T130000Z
SUMMARY:Code de la route
DESCRIPTION:atelier - Atelier
 - senior - Sur inscription au 02 32 08 60 80
 -  - Animé par David, policier municipal de la Ville de Rouen
Testez vos connaissances en termes de sécurité routière, dans la bonne humeur

LOCATION:Maison des aînés, 24 rue des Arsins
, Rouen
END:VEVENT
END:VCALENDAR
