BEGIN:VCALENDAR
VERSION:2.0
PRODID:-//rfr/addtomycal//NONSGML v1.0//EN
BEGIN:VEVENT
UID:rouen.fr
DTSTAMP:20260422T003510Z
DTSTART:20230214T090000Z
DTEND:20230214T110000Z
SUMMARY:Seniors connectés - Les logiciels indispensables à avoir dans son ordinateur
DESCRIPTION:rencontre - Seniors connectés
 - senior - Sur inscription au 06 95 48 34 71
 -  - Temps d'informations et d'échanges

LOCATION:Cyber base, 29 rue César Franck
, Rouen
END:VEVENT
END:VCALENDAR
