BEGIN:VCALENDAR
VERSION:2.0
PRODID:-//rfr/addtomycal//NONSGML v1.0//EN
BEGIN:VEVENT
UID:rouen.fr
DTSTAMP:20260421T141212Z
DTSTART:20230216T090000Z
DTEND:20230216T110000Z
SUMMARY:Le numérique dans la vie quotidienne - Débutants et intermédiaires
DESCRIPTION:atelier - Seniors connectés
 - senior - Sur inscription au 06 95 48 34 71
 -  - Élaborer vos menus hebdomadaires et trouver leurs recettes facilement
Atelier sur tablette et smartphone
Apporter son matériel

LOCATION:Centre socioculturel Simone-Veil, 74 rue Jules Adeline
, Rouen
END:VEVENT
END:VCALENDAR
