BEGIN:VCALENDAR
VERSION:2.0
PRODID:-//rfr/addtomycal//NONSGML v1.0//EN
BEGIN:VEVENT
UID:rouen.fr
DTSTAMP:20260421T000854Z
DTSTART:20230224T090000Z
DTEND:20230224T110000Z
SUMMARY:Seniors connectés - Comment utiliser FranceConnect ?
DESCRIPTION:rencontre - Seniors connectés
 - senior - Sur inscription au 06 95 48 34 71
 -  - Temps d'informations et d'échanges

LOCATION:MJC Grieu, 3 rue de Genève
, Rouen
END:VEVENT
END:VCALENDAR
