BEGIN:VCALENDAR
VERSION:2.0
PRODID:-//rfr/addtomycal//NONSGML v1.0//EN
BEGIN:VEVENT
UID:rouen.fr
DTSTAMP:20260420T210039Z
DTSTART:20230304T130000Z
DTEND:20230304T160000Z
SUMMARY:Atelier - La taille de formation des arbres fruitiers
DESCRIPTION:atelier - Atelier
 - tout public - Gratuit, sur inscription
 - Rens. et inscriptions : https:
LOCATION:
END:VEVENT
END:VCALENDAR
