BEGIN:VCALENDAR
VERSION:2.0
PRODID:-//rfr/addtomycal//NONSGML v1.0//EN
BEGIN:VEVENT
UID:rouen.fr
DTSTAMP:20260420T074423Z
DTSTART:20230307T190000Z
DTEND:20230307T190000Z
SUMMARY:Ensemble Correspondances
DESCRIPTION:musique - Concert
 - tout public - 32 € (TR 26 € et 10 €)
 - Rens. : 02 35 98 74 78, par mail à billetterie@operaderouen.fr et sur www.operaderouen.fr
 - Prog. : Buxtehude
Durée : 1h15

LOCATION:Chapelle Corneille, rue Bourg l'Abbé, Rouen
END:VEVENT
END:VCALENDAR
