BEGIN:VCALENDAR
VERSION:2.0
PRODID:-//rfr/addtomycal//NONSGML v1.0//EN
BEGIN:VEVENT
UID:rouen.fr
DTSTAMP:20260420T073227Z
DTSTART:20230311T133000Z
DTEND:20230311T133000Z
SUMMARY:Le KL-Natzweiler et la faculté de médecine de la Reichuniversitat Strassburg (1941-1944) : histoires croisées
DESCRIPTION:conférence - Conférence
 - tout public - 5 € (TR 3 €)
 - Rens. : par mail à amismuseeflaubert@gmail.com et sur www.amismuseeflaubert.fr
 - Proposé par les Amis du musée Flaubert et d'Histoire de la médecine
Par Christian Bonah
En partenariat avec le GHHR (Groupe d'histoire des hôpitaux de Rouen)

LOCATION:Amphithéâtre Lecat, Pavillon Derocque, Hôpital Charles-Nicolle
, Rouen
END:VEVENT
END:VCALENDAR
