BEGIN:VCALENDAR
VERSION:2.0
PRODID:-//rfr/addtomycal//NONSGML v1.0//EN
BEGIN:VEVENT
UID:rouen.fr
DTSTAMP:20260423T153935Z
DTSTART:20230312T140000Z
DTEND:20230312T140000Z
SUMMARY:La forêt de glace
DESCRIPTION:spectacle - Danse
 - enfant - 6 €
 - Rens. et réservations au 02 35 68 48 91 et sur www.dullin-voltaire.com
 - Par Emmanuelle Vo-Dinh 
LOCATION: Pavillon-S
Public : en famille, dès 8 ans
Durée : 50 minutes

END:VEVENT
END:VCALENDAR
