BEGIN:VCALENDAR
VERSION:2.0
PRODID:-//rfr/addtomycal//NONSGML v1.0//EN
BEGIN:VEVENT
UID:rouen.fr
DTSTAMP:20260421T171624Z
DTSTART:20230314T080000Z
DTEND:20230314T110000Z
SUMMARY:Permanence du Clic dans votre quartier
DESCRIPTION:rencontre - Information
 - senior - Gratuit, sans rendez-vous
 -  - Vous souhaitez être informé sur les aides au maintien à domicile, sur les maisons de retraite, sur les aides financières, sur les loisirs…

LOCATION:France Services, antenne CPAM, 8 rue Joachim du Bellay
, Rouen
END:VEVENT
END:VCALENDAR
