BEGIN:VCALENDAR
VERSION:2.0
PRODID:-//rfr/addtomycal//NONSGML v1.0//EN
BEGIN:VEVENT
UID:rouen.fr
DTSTAMP:20260422T095012Z
DTSTART:20230315T230000Z
DTEND:20230318T230000Z
SUMMARY:Festival Les Pluriels
DESCRIPTION:spectacle - Festival
 - tout public - Payant
 - Rens. : contact@lespluriels.com et sur www.lespluriels.com
 - 26e édition

LOCATION:Rouen et son agglomération, Rouen
END:VEVENT
END:VCALENDAR
