BEGIN:VCALENDAR
VERSION:2.0
PRODID:-//rfr/addtomycal//NONSGML v1.0//EN
BEGIN:VEVENT
UID:rouen.fr
DTSTAMP:20260426T012813Z
DTSTART:20230316T133000Z
DTEND:20230316T133000Z
SUMMARY:Atelier artistique
DESCRIPTION:atelier - Atelier
 - senior - Sur inscription au 02 32 08 60 80
 -  - Atelier autour du dessin-peinture-pastels et collages
Avec Monique Rose Deram
Des outils afin d'éveiller votre créativité et votre imaginaire vous seront proposés
S'amuser en créant, en observant autrement, en laissant place à vos émotions, à votre ressenti à travers des propositions de thèmes, de modèles…
Cycle de 4 séances

LOCATION:Maison des aînés, 24 rue des Arsins
, Rouen
END:VEVENT
END:VCALENDAR
