BEGIN:VCALENDAR
VERSION:2.0
PRODID:-//rfr/addtomycal//NONSGML v1.0//EN
BEGIN:VEVENT
UID:rouen.fr
DTSTAMP:20260422T001931Z
DTSTART:20230316T190000Z
DTEND:20230316T190000Z
SUMMARY:Echoes of the Jungle
DESCRIPTION:spectacle - Musique et danse
 - tout public - 20 € (TR 15 €, 10 €)
 - Rens. et réservations au 02 35 68 48 91 et sur www.dullin-voltaire.com
 - Par la Cie Ne dites pas non vous avez souri
Durée : 1h15

LOCATION:Théâtre Charles-Dullin
, Grand-Quevilly
END:VEVENT
END:VCALENDAR
