BEGIN:VCALENDAR
VERSION:2.0
PRODID:-//rfr/addtomycal//NONSGML v1.0//EN
BEGIN:VEVENT
UID:rouen.fr
DTSTAMP:20260420T082000Z
DTSTART:20230317T133000Z
DTEND:20230317T133000Z
SUMMARY:Atelier d'esthétique
DESCRIPTION:atelier - Atelier
 - senior - Sur inscription au 02 32 08 60 80
 -  - Ateliers et conseils beauté adaptés aux seniors
Animé par Elsa et Marion du centre de formation Silvya Terra

LOCATION:Maison des aînés, 24 rue des Arsins, Rouen
END:VEVENT
END:VCALENDAR
