BEGIN:VCALENDAR
VERSION:2.0
PRODID:-//rfr/addtomycal//NONSGML v1.0//EN
BEGIN:VEVENT
UID:rouen.fr
DTSTAMP:20260420T074409Z
DTSTART:20230318T170000Z
DTEND:20230318T170000Z
SUMMARY:Bitbybit
DESCRIPTION:spectacle - Cirque
 - tout public - 17 € (TR 13 €)
 - Rens. et réservations : 02 32 13 10 50 et sur www.cirquetheatre-elbeuf.com
 - À l'occasion du festival "Spring"
Par Movedbymatter avec le collectif Malunés
Public : à partir de 8 ans
Durée : 1h15

LOCATION:Cirque-théâtre d'Elbeuf
, Rouen
END:VEVENT
END:VCALENDAR
