BEGIN:VCALENDAR
VERSION:2.0
PRODID:-//rfr/addtomycal//NONSGML v1.0//EN
BEGIN:VEVENT
UID:rouen.fr
DTSTAMP:20260425T232307Z
DTSTART:20230320T170000Z
DTEND:20230320T170000Z
SUMMARY:Fête du printemps - Impact d'une course Rouen
DESCRIPTION:spectacle - Déambulation
 - tout public - Gratuit
 - Rens. : 02 35 98 45 05, par mail à billetterie.etincelle@rouen.fr et sur https:
LOCATION:
END:VEVENT
END:VCALENDAR
