BEGIN:VCALENDAR
VERSION:2.0
PRODID:-//rfr/addtomycal//NONSGML v1.0//EN
BEGIN:VEVENT
UID:rouen.fr
DTSTAMP:20260423T145016Z
DTSTART:20230322T130000Z
DTEND:20230322T130000Z
SUMMARY:Après-midi jeux
DESCRIPTION:rencontre - Jeux
 - tout public - Gratuit, sur inscription
 - Rens. et inscriptions : 02 76 08 80 88 et https:
LOCATION:
END:VEVENT
END:VCALENDAR
