BEGIN:VCALENDAR
VERSION:2.0
PRODID:-//rfr/addtomycal//NONSGML v1.0//EN
BEGIN:VEVENT
UID:rouen.fr
DTSTAMP:20260420T074107Z
DTSTART:20230323T230000Z
DTEND:20230401T220000Z
SUMMARY:Foire internationale de Rouen
DESCRIPTION:salon - Salon
 - tout public - 7 € (TR 5 €, 2 € pour les 12
LOCATION:17 ans, gratuit pour les - 12 ans)
 - Rens. et billetterie : www.foirederouen.fr
 - 94e édition
Ouvert tous les jours, de 10h à 20h, sauf le dernier jour (fermeture à 18h) et le vendredi 31 mars (nocturne jusqu'à 22h)
Invité d'honneur : Lisbonne et le Portugal

END:VEVENT
END:VCALENDAR
