BEGIN:VCALENDAR
VERSION:2.0
PRODID:-//rfr/addtomycal//NONSGML v1.0//EN
BEGIN:VEVENT
UID:rouen.fr
DTSTAMP:20260421T093719Z
DTSTART:20230326T123000Z
DTEND:20230326T180000Z
SUMMARY:O'Flow Battle
DESCRIPTION:spectacle - Battle de hip-hop
 - tout public - 10 € (TR 5 €)
 - Rens. : 02 35 36 95 80, par mail à ecfmbilletterie@ville-canteleu.fr et sur www.ecfm.ville-canteleu.fr
 - Tout public

LOCATION:Espace culturel François-Mitterrand, Canteleu
END:VEVENT
END:VCALENDAR
