BEGIN:VCALENDAR
VERSION:2.0
PRODID:-//rfr/addtomycal//NONSGML v1.0//EN
BEGIN:VEVENT
UID:rouen.fr
DTSTAMP:20260422T164133Z
DTSTART:20230326T220000Z
DTEND:20230401T220000Z
SUMMARY:Journées européennes des métiers d'Art
DESCRIPTION:salon - Portes ouvertes
 - tout public - Gratuit
 - Rens. : www.journeesdesmetiersdart.fr
 - 
LOCATION:Divers lieux de la Métropole Rouen Normandie, Rouen
END:VEVENT
END:VCALENDAR
