BEGIN:VCALENDAR
VERSION:2.0
PRODID:-//rfr/addtomycal//NONSGML v1.0//EN
BEGIN:VEVENT
UID:rouen.fr
DTSTAMP:20260421T204145Z
DTSTART:20230330T170000Z
DTEND:20230330T170000Z
SUMMARY:Musique et politique : histoire de liaisons dangereuses
DESCRIPTION:rencontre - Rencontre
 - tout public - Gratuit, sur inscription
 - Rens. : 07 81 15 36 09 et sur www.operaderouen.fr
 - Avec Marina Chiche, violoniste, musicologue, chroniqueuse (sur France Inter et France Musique), médiatrice, auteure et conférencière

LOCATION:Théâtre des Arts, place des Arts
, Rouen
END:VEVENT
END:VCALENDAR
