BEGIN:VCALENDAR
VERSION:2.0
PRODID:-//rfr/addtomycal//NONSGML v1.0//EN
BEGIN:VEVENT
UID:rouen.fr
DTSTAMP:20260421T211150Z
DTSTART:20230331T220000Z
DTEND:20230331T220000Z
SUMMARY:Vide-grenier Augustins-Molière
DESCRIPTION:fête populaire - Foire-à-tout
 - tout public - Accès libre
 -  - Proposé par le Comité Augustins-Molière

LOCATION:Quartier Saint-Marc
END:VEVENT
END:VCALENDAR
