BEGIN:VCALENDAR
VERSION:2.0
PRODID:-//rfr/addtomycal//NONSGML v1.0//EN
BEGIN:VEVENT
UID:rouen.fr
DTSTAMP:20260421T122328Z
DTSTART:20230403T150000Z
DTEND:20230403T150000Z
SUMMARY:Dédicace - Serena Giuliano et Virginie Grimaldi
DESCRIPTION:rencontre - Rencontre et dédicace
 - tout public - Gratuit, sur inscription
 - Inscriptions sur https:
LOCATION:
END:VEVENT
END:VCALENDAR
