BEGIN:VCALENDAR
VERSION:2.0
PRODID:-//rfr/addtomycal//NONSGML v1.0//EN
BEGIN:VEVENT
UID:rouen.fr
DTSTAMP:20260421T093035Z
DTSTART:20230408T120000Z
DTEND:20230408T140000Z
SUMMARY:Atelier floral : les couleurs vives du printemps
DESCRIPTION:atelier - Atelier
 - tout public - Gratuit, sur inscription
 - Rens. et inscriptions : https:
LOCATION:
END:VEVENT
END:VCALENDAR
