BEGIN:VCALENDAR
VERSION:2.0
PRODID:-//rfr/addtomycal//NONSGML v1.0//EN
BEGIN:VEVENT
UID:rouen.fr
DTSTAMP:20260420T035557Z
DTSTART:20230413T180000Z
DTEND:20230413T180000Z
SUMMARY:Outroduction + 2
DESCRIPTION:3 de Sextet
LOCATION:musique - Concert
 - tout public - Prix libre
 - Rens. : https:
END:VEVENT
END:VCALENDAR
