BEGIN:VCALENDAR
VERSION:2.0
PRODID:-//rfr/addtomycal//NONSGML v1.0//EN
BEGIN:VEVENT
UID:rouen.fr
DTSTAMP:20260419T185818Z
DTSTART:20230413T183000Z
DTEND:20230413T183000Z
SUMMARY:Laura Calu - En grand
DESCRIPTION:spectacle - Spectacle
 - tout public - 29 €
 - Rens. : https:
LOCATION:
END:VEVENT
END:VCALENDAR
