BEGIN:VCALENDAR
VERSION:2.0
PRODID:-//rfr/addtomycal//NONSGML v1.0//EN
BEGIN:VEVENT
UID:rouen.fr
DTSTAMP:20260419T190507Z
DTSTART:20230415T120000Z
DTEND:20230415T140000Z
SUMMARY:Atelier poterie
DESCRIPTION:atelier - Atelier
 - enfant - 25 €
 - Rens. : 02 76 78 18 83, par mail contact@galeriedesartsdufeu.fr et sur
www.galeriedesartsdufeu.fr
 - Public : 7
LOCATION:15 ans
Animé par la céramiste Marguerite Robert

END:VEVENT
END:VCALENDAR
