BEGIN:VCALENDAR
VERSION:2.0
PRODID:-//rfr/addtomycal//NONSGML v1.0//EN
BEGIN:VEVENT
UID:rouen.fr
DTSTAMP:20260425T174452Z
DTSTART:20230422T160000Z
DTEND:20230422T160000Z
SUMMARY:Rouen - Saint-Médard
DESCRIPTION:sport - Roller hockey
 - tout public - Gratuit
 -  - Match retour de la 1
LOCATION:2 finale du championnat de France de N1

END:VEVENT
END:VCALENDAR
