BEGIN:VCALENDAR
VERSION:2.0
PRODID:-//rfr/addtomycal//NONSGML v1.0//EN
BEGIN:VEVENT
UID:rouen.fr
DTSTAMP:20260420T203644Z
DTSTART:20230422T170000Z
DTEND:20230422T170000Z
SUMMARY:Guillaume Pierre - Même pas peur !
DESCRIPTION:spectacle - Humour
 - tout public - 20 € (TR 16 €)
 - Rens. : https:
LOCATION:
END:VEVENT
END:VCALENDAR
