BEGIN:VCALENDAR
VERSION:2.0
PRODID:-//rfr/addtomycal//NONSGML v1.0//EN
BEGIN:VEVENT
UID:rouen.fr
DTSTAMP:20260423T205024Z
DTSTART:20230502T120000Z
DTEND:20230502T120000Z
SUMMARY:Ateliers Arts plastiques
DESCRIPTION:atelier - Atelier
 - tout public - Gratuit
 - Rens. : 02 35 08 88 99
 - Avec Valérie Massolin
Tout public
Dans le cadre du Débat des mémoires de la Ville de Rouen et du temps fort consacré à la valorisation des productions artistiques issues de migrations

LOCATION:Centre André-Malraux, rue François Couperin, Rouen
END:VEVENT
END:VCALENDAR
