BEGIN:VCALENDAR
VERSION:2.0
PRODID:-//rfr/addtomycal//NONSGML v1.0//EN
BEGIN:VEVENT
UID:rouen.fr
DTSTAMP:20260421T002030Z
DTSTART:20230513T170000Z
DTEND:20230513T203000Z
SUMMARY:Nuit des musées - La fabrique minute
DESCRIPTION:atelier - Nuit des musées
 - tout public - Gratuit, dans la limite des places disponibles
 - Rens. : www.musees-rouen-normandie.fr
 - Public : à partir de 7 ans
Durée : 20 minutes

LOCATION:Musée de la Céramique, 1 rue Faucon
, Rouen
END:VEVENT
END:VCALENDAR
