BEGIN:VCALENDAR
VERSION:2.0
PRODID:-//rfr/addtomycal//NONSGML v1.0//EN
BEGIN:VEVENT
UID:rouen.fr
DTSTAMP:20260420T022210Z
DTSTART:20230513T174500Z
DTEND:20230513T181500Z
SUMMARY:Contes gourmands
DESCRIPTION:rencontre - Nuit des musées
 - tout public - Gratuit
 -  - Par l'association Mille choses à dire
À écouter en famille

LOCATION:Musée de la Céramique, Rouen
END:VEVENT
END:VCALENDAR
