BEGIN:VCALENDAR
VERSION:2.0
PRODID:-//rfr/addtomycal//NONSGML v1.0//EN
BEGIN:VEVENT
UID:rouen.fr
DTSTAMP:20260420T115421Z
DTSTART:20230519T113000Z
DTEND:20230519T160000Z
SUMMARY:Fêtes Jeanne d'Arc - La chevauchée des lices
DESCRIPTION:fête populaire - Course de chars
 - enfant - Gratuit
 - Rens. : https:
LOCATION:
END:VEVENT
END:VCALENDAR
