BEGIN:VCALENDAR
VERSION:2.0
PRODID:-//rfr/addtomycal//NONSGML v1.0//EN
BEGIN:VEVENT
UID:rouen.fr
DTSTAMP:20260425T125809Z
DTSTART:20230524T220000Z
DTEND:20230524T220000Z
SUMMARY:Forum de la Bientraitance
DESCRIPTION:salon - Forum
 - senior - Sur inscription
 - Prog. et inscription sur www.clic-rouen.fr
 - Public : aidants professionnels et familiaux
Organisé par le Clic des aînés

LOCATION:MJC Rive gauche, place de Hanovre
, Rouen
END:VEVENT
END:VCALENDAR
