BEGIN:VCALENDAR
VERSION:2.0
PRODID:-//rfr/addtomycal//NONSGML v1.0//EN
BEGIN:VEVENT
UID:rouen.fr
DTSTAMP:20260424T000854Z
DTSTART:20230527T080000Z
DTEND:20230527T103000Z
SUMMARY:Petit déj' en musique
DESCRIPTION:fête populaire - Fête des voisins
 - tout public - Gratuit
 - Rens. : 02 35 08 88 99
 - Moment convivial autour d'un petit-déjeuner mis en musique par La Band' à Côté de l'Orchestre harmonique Rouen Métropole

LOCATION:Centre André-Malraux, 110 rue François Couperin
, Rouen
END:VEVENT
END:VCALENDAR
