BEGIN:VCALENDAR
VERSION:2.0
PRODID:-//rfr/addtomycal//NONSGML v1.0//EN
BEGIN:VEVENT
UID:rouen.fr
DTSTAMP:20260424T084311Z
DTSTART:20230605T070000Z
DTEND:20230605T150000Z
SUMMARY:Journée info retraite
DESCRIPTION:rencontre - Information
 - tout public - Gratuit, sur inscription
 - Inscription à l'accueil France Services (antenne CPAM des Hauts-de-Rouen) ou par téléphone au 07 64 62 28 82 ou au 02 35 08 86 40
 - Proposé par France Services
Rendez-vous de 30 minutes pour connaître ses droits à la retraite
En partenariat avec la Caf de Seine-Maritime, la Carsat Normandie, l'agence Conseil Retraite Agirc-Arrco
Public : bénéficiaires du RSA et de l'AAH atteignant prochainement l'âge de la retraite et les + de 60 ans qui souhaite préparer leur départ

LOCATION:Centre socioculturel Simone-Veil, 74 rue Jules Adeline
, Rouen
END:VEVENT
END:VCALENDAR
