BEGIN:VCALENDAR
VERSION:2.0
PRODID:-//rfr/addtomycal//NONSGML v1.0//EN
BEGIN:VEVENT
UID:rouen.fr
DTSTAMP:20260420T004221Z
DTSTART:20230613T071500Z
DTEND:20230613T071500Z
SUMMARY:L'Armada en ville - Méditation
DESCRIPTION:atelier - Atelier
 - tout public - Gratuit, dans la limite des places disponibles
 - Rens. : www.rouen.fr
LOCATION:village-armada
 - Animation offerte par Studio Yogart
Durée : 1h

END:VEVENT
END:VCALENDAR
